BEGIN:VCALENDAR
VERSION:2.0
PRODID:-//St. Endellion Parish Council//Meeting Calendar//EN
CALSCALE:GREGORIAN
METHOD:PUBLISH
BEGIN:VEVENT
UID:70982-20260309@stendellionparish.gov.uk
DTSTAMP:20260424T074807Z
DTSTART;VALUE=DATE:20260309
DTEND;VALUE=DATE:20260310
SUMMARY:St Endellion Parish Council Meeting Agenda Monday 9th March 2026
DESCRIPTION:Full Council Meeting\nView details: https://stendellionparish.gov.uk/meetings/st-endellion-parish-council-meeting-agenda-monday-9th-march-2026/
URL:https://stendellionparish.gov.uk/meetings/st-endellion-parish-council-meeting-agenda-monday-9th-march-2026/
END:VEVENT
END:VCALENDAR
