BEGIN:VCALENDAR
VERSION:2.0
PRODID:-//St. Endellion Parish Council//Meeting Calendar//EN
CALSCALE:GREGORIAN
METHOD:PUBLISH
BEGIN:VEVENT
UID:70988-20260413@stendellionparish.gov.uk
DTSTAMP:20260424T075324Z
DTSTART;VALUE=DATE:20260413
DTEND;VALUE=DATE:20260414
SUMMARY:St Endellion Council Annual Parish Meeting Agenda Monday 13th April 2026
DESCRIPTION:Annual Parish Meeting\nView details: https://stendellionparish.gov.uk/meetings/st-endellion-council-annual-parish-meeting-agenda-monday-13th-april-2026/
URL:https://stendellionparish.gov.uk/meetings/st-endellion-council-annual-parish-meeting-agenda-monday-13th-april-2026/
END:VEVENT
END:VCALENDAR
